BEGIN:VCALENDAR
VERSION:2.0
PRODID:-//AtEdge :: Bespoke Events - ECPv6.15.16//NONSGML v1.0//EN
CALSCALE:GREGORIAN
METHOD:PUBLISH
X-ORIGINAL-URL:https://bespoke.at-edge.com
X-WR-CALDESC:Events for AtEdge :: Bespoke Events
REFRESH-INTERVAL;VALUE=DURATION:PT1H
X-Robots-Tag:noindex
X-PUBLISHED-TTL:PT1H
BEGIN:VTIMEZONE
TZID:America/Los_Angeles
BEGIN:DAYLIGHT
TZOFFSETFROM:-0800
TZOFFSETTO:-0700
TZNAME:PDT
DTSTART:20250309T100000
END:DAYLIGHT
BEGIN:STANDARD
TZOFFSETFROM:-0700
TZOFFSETTO:-0800
TZNAME:PST
DTSTART:20251102T090000
END:STANDARD
BEGIN:DAYLIGHT
TZOFFSETFROM:-0800
TZOFFSETTO:-0700
TZNAME:PDT
DTSTART:20260308T100000
END:DAYLIGHT
BEGIN:STANDARD
TZOFFSETFROM:-0700
TZOFFSETTO:-0800
TZNAME:PST
DTSTART:20261101T090000
END:STANDARD
BEGIN:DAYLIGHT
TZOFFSETFROM:-0800
TZOFFSETTO:-0700
TZNAME:PDT
DTSTART:20270314T100000
END:DAYLIGHT
BEGIN:STANDARD
TZOFFSETFROM:-0700
TZOFFSETTO:-0800
TZNAME:PST
DTSTART:20271107T090000
END:STANDARD
END:VTIMEZONE
BEGIN:VEVENT
DTSTART;TZID=America/Los_Angeles:20260113T140000
DTEND;TZID=America/Los_Angeles:20260113T150000
DTSTAMP:20260422T041402
CREATED:20250619T194251Z
LAST-MODIFIED:20250619T194336Z
UID:4326-1768312800-1768316400@bespoke.at-edge.com
SUMMARY:Intentional Fire
DESCRIPTION:Reigniting Visual Boldness in a Saturated Market \nWhat does it mean to be visually arresting today? This session will unpack how to develop bold visual language that breaks through noise—and how clients and artists can co-create with impact.
URL:https://bespoke.at-edge.com/event/intentional-fire/
CATEGORIES:AtEdge Intentional Symposium
END:VEVENT
END:VCALENDAR