BEGIN:VCALENDAR
VERSION:2.0
PRODID:-//AtEdge :: Bespoke Events - ECPv6.15.16//NONSGML v1.0//EN
CALSCALE:GREGORIAN
METHOD:PUBLISH
X-WR-CALNAME:AtEdge :: Bespoke Events
X-ORIGINAL-URL:https://bespoke.at-edge.com
X-WR-CALDESC:Events for AtEdge :: Bespoke Events
REFRESH-INTERVAL;VALUE=DURATION:PT1H
X-Robots-Tag:noindex
X-PUBLISHED-TTL:PT1H
BEGIN:VTIMEZONE
TZID:America/Los_Angeles
BEGIN:DAYLIGHT
TZOFFSETFROM:-0800
TZOFFSETTO:-0700
TZNAME:PDT
DTSTART:20240310T100000
END:DAYLIGHT
BEGIN:STANDARD
TZOFFSETFROM:-0700
TZOFFSETTO:-0800
TZNAME:PST
DTSTART:20241103T090000
END:STANDARD
BEGIN:DAYLIGHT
TZOFFSETFROM:-0800
TZOFFSETTO:-0700
TZNAME:PDT
DTSTART:20250309T100000
END:DAYLIGHT
BEGIN:STANDARD
TZOFFSETFROM:-0700
TZOFFSETTO:-0800
TZNAME:PST
DTSTART:20251102T090000
END:STANDARD
BEGIN:DAYLIGHT
TZOFFSETFROM:-0800
TZOFFSETTO:-0700
TZNAME:PDT
DTSTART:20260308T100000
END:DAYLIGHT
BEGIN:STANDARD
TZOFFSETFROM:-0700
TZOFFSETTO:-0800
TZNAME:PST
DTSTART:20261101T090000
END:STANDARD
END:VTIMEZONE
BEGIN:VEVENT
DTSTART;TZID=America/Los_Angeles:20251014T140000
DTEND;TZID=America/Los_Angeles:20251014T150000
DTSTAMP:20260422T083916
CREATED:20250619T193828Z
LAST-MODIFIED:20250619T193828Z
UID:4320-1760450400-1760454000@bespoke.at-edge.com
SUMMARY:Intentional Trust
DESCRIPTION:Karen Williams\, Founder/ Visual Director / Black Visual Queen  \nHow can we rebuild trust in emerging talent? This session looks at why betting on fresh voices matters—and how to champion originality even without a long client list.  – This could be more geared for upcoming Advertising Artists entering industry.
URL:https://bespoke.at-edge.com/event/intentional-trust/
CATEGORIES:AtEdge Intentional Symposium
END:VEVENT
END:VCALENDAR