BEGIN:VCALENDAR
VERSION:2.0
PRODID:-//AtEdge :: Bespoke Events - ECPv6.15.16//NONSGML v1.0//EN
CALSCALE:GREGORIAN
METHOD:PUBLISH
X-WR-CALNAME:AtEdge :: Bespoke Events
X-ORIGINAL-URL:https://bespoke.at-edge.com
X-WR-CALDESC:Events for AtEdge :: Bespoke Events
REFRESH-INTERVAL;VALUE=DURATION:PT1H
X-Robots-Tag:noindex
X-PUBLISHED-TTL:PT1H
BEGIN:VTIMEZONE
TZID:America/Los_Angeles
BEGIN:DAYLIGHT
TZOFFSETFROM:-0800
TZOFFSETTO:-0700
TZNAME:PDT
DTSTART:20240310T100000
END:DAYLIGHT
BEGIN:STANDARD
TZOFFSETFROM:-0700
TZOFFSETTO:-0800
TZNAME:PST
DTSTART:20241103T090000
END:STANDARD
BEGIN:DAYLIGHT
TZOFFSETFROM:-0800
TZOFFSETTO:-0700
TZNAME:PDT
DTSTART:20250309T100000
END:DAYLIGHT
BEGIN:STANDARD
TZOFFSETFROM:-0700
TZOFFSETTO:-0800
TZNAME:PST
DTSTART:20251102T090000
END:STANDARD
BEGIN:DAYLIGHT
TZOFFSETFROM:-0800
TZOFFSETTO:-0700
TZNAME:PDT
DTSTART:20260308T100000
END:DAYLIGHT
BEGIN:STANDARD
TZOFFSETFROM:-0700
TZOFFSETTO:-0800
TZNAME:PST
DTSTART:20261101T090000
END:STANDARD
END:VTIMEZONE
BEGIN:VEVENT
DTSTART;TZID=America/Los_Angeles:20251209T140000
DTEND;TZID=America/Los_Angeles:20251209T150000
DTSTAMP:20260422T035941
CREATED:20250619T194137Z
LAST-MODIFIED:20250619T194137Z
UID:4324-1765288800-1765292400@bespoke.at-edge.com
SUMMARY:Intentional AI
DESCRIPTION:AI isn’t the threat—complacency is. Every industrial revolution has made some roles obsolete\, but each wave has ultimately created more opportunities than it destroyed. AI is no different. \nIt lies in using AI to tap into timeless human needs in new\, meaningful ways. AI can’t replace your creative voice—but it can amplify it\, if you learn how to wield it. \nTalk about Kling AI\, Cap Cut and other tools that are creating content using artists orginal works – at rapid speed – that do the trick … maybe. \n(Jon Evans
URL:https://bespoke.at-edge.com/event/intentional-ai/
CATEGORIES:AtEdge Intentional Symposium
END:VEVENT
END:VCALENDAR