BEGIN:VCALENDAR
VERSION:2.0
PRODID:-//AtEdge :: Bespoke Events - ECPv6.15.16//NONSGML v1.0//EN
CALSCALE:GREGORIAN
METHOD:PUBLISH
X-WR-CALNAME:AtEdge :: Bespoke Events
X-ORIGINAL-URL:https://bespoke.at-edge.com
X-WR-CALDESC:Events for AtEdge :: Bespoke Events
REFRESH-INTERVAL;VALUE=DURATION:PT1H
X-Robots-Tag:noindex
X-PUBLISHED-TTL:PT1H
BEGIN:VTIMEZONE
TZID:America/Los_Angeles
BEGIN:DAYLIGHT
TZOFFSETFROM:-0800
TZOFFSETTO:-0700
TZNAME:PDT
DTSTART:20240310T100000
END:DAYLIGHT
BEGIN:STANDARD
TZOFFSETFROM:-0700
TZOFFSETTO:-0800
TZNAME:PST
DTSTART:20241103T090000
END:STANDARD
BEGIN:DAYLIGHT
TZOFFSETFROM:-0800
TZOFFSETTO:-0700
TZNAME:PDT
DTSTART:20250309T100000
END:DAYLIGHT
BEGIN:STANDARD
TZOFFSETFROM:-0700
TZOFFSETTO:-0800
TZNAME:PST
DTSTART:20251102T090000
END:STANDARD
BEGIN:DAYLIGHT
TZOFFSETFROM:-0800
TZOFFSETTO:-0700
TZNAME:PDT
DTSTART:20260308T100000
END:DAYLIGHT
BEGIN:STANDARD
TZOFFSETFROM:-0700
TZOFFSETTO:-0800
TZNAME:PST
DTSTART:20261101T090000
END:STANDARD
END:VTIMEZONE
BEGIN:VEVENT
DTSTART;TZID=America/Los_Angeles:20250909T140000
DTEND;TZID=America/Los_Angeles:20250909T150000
DTSTAMP:20260422T083047
CREATED:20250619T193139Z
LAST-MODIFIED:20250619T193347Z
UID:4316-1757426400-1757430000@bespoke.at-edge.com
SUMMARY:Intentional Risk
DESCRIPTION:Explore the cultural and industry-wide shift away from creative risk. We’ll examine the forces behind today’s cautious commissioning climate and how fear of failure\, algorithms\, and shrinking budgets have reshaped creative decision-making. \nOpportunity for Case Study alongside Rise Creative Studio & Mischief Agency
URL:https://bespoke.at-edge.com/event/intentional-risk/
CATEGORIES:AtEdge Intentional Symposium
END:VEVENT
END:VCALENDAR